BEGIN:VCALENDAR
VERSION:2.0
PRODID:-//TYPO3/NONSGML News system (news)//EN
BEGIN:VEVENT
UID:news-135887@rewi.uni-graz.at
DTSTAMP:20260420T124613Z
DTSTART:20260527T100000Z
DTEND:20260527T113000Z
SUMMARY:China-Russia relations &amp; China’s reform ideas for global order

DESCRIPTION:Guest Lecture by Dr. Thomas Eder, Austrian Institute for International Affairs (OIIP) 
END:VEVENT
END:VCALENDAR
